BEGIN:VCALENDAR
PRODID: -//CFLIB.ORG//iCalUS()//EN
VERSION:2.0
METHOD:REQUEST
BEGIN:VTIMEZONE
BEGIN:STANDARD
DTSTART:20061101T020000
RRULE:FREQ=YEARLY;INTERVAL=1;BYDAY=1SU;BYMONTH=11
TZOFFSETFROM:-0400
TZOFFSETTO:-0500
TZNAME:Standard Time
END:STANDARD
BEGIN:DAYLIGHT
DTSTART:20060301T020000
RRULE:FREQ=YEARLY;INTERVAL=1;BYDAY=2SU;BYMONTH=3
TZOFFSETFROM:-0500
TZOFFSETTO:-0400
TZNAME:Daylight Savings Time
END:DAYLIGHT
END:VTIMEZONE
BEGIN:VEVENT
UID:1582969604407.CFLIB.ORG
ORGANIZER;CN=:MAILTO:
DTSTAMP:20200229T204644
DTSTART;TZID=Eastern Time:20200302T170000
DTEND;TZID=Eastern Time:20200302T171500
SUMMARY:ADCOCK REAL ESTATE - OFI/OPEN HOME - 2A Sheidow Close, Mount Barker, 5251
LOCATION:2A Sheidow Close, Mount Barker, 5251
DESCRIPTION:OFI/OPEN HOME - 2A Sheidow Close, Mount Barker, 5251\n\nMonday 5:00PM-5:15PM\n\nClick the link for full listing information: http://www.adcock.com.au?/property/3391904
PRIORITY:1
TRANSP:OPAQUE
CLASS:PUBLIC
BEGIN:VALARM
TRIGGER:-PT30M
ACTION:DISPLAY
DESCRIPTION:Reminder
END:VALARM
END:VEVENT
END:VCALENDAR 